BEGIN:VCALENDAR
VERSION:2.0
METHOD:PUBLISH
BEGIN:VEVENT
DTSTART:20240803T160000Z
DTEND:20240804T210000Z
LOCATION:Hayward, CA 94542
TRANSP: OPAQUE
SEQUENCE:0
UID:
DTSTAMP:20260419T054018Z
SUMMARY:Sunday 50% off. Packed House in Hayward, CA By Horizons.
DESCRIPTION:Sunday 50% off. Packed House in Hayward, CA By Horizons. Horizons Estate Sales LLC 
UID:1776598818
STREET-ADDRESS:See website
POSTAL-CODE:94542
LOCALITY:Hayward
REGION:ABBREV=CA
COUNTRY:ABBREV=US;ABBREV=USA:United States
URL;TYPE=Event Listing:https://estatesales.org/estate-sales/ca/hayward/94542/sunday-50-off-packed-house-2330691
PRIORITY:1
CLASS:PUBLIC
SEQUENCE:0
STATUS:CONFIRMED
TRANSP:OPAQUE
END:VEVENT
END:VCALENDAR
