BEGIN:VCALENDAR
VERSION:2.0
METHOD:PUBLISH
BEGIN:VEVENT
DTSTART:20240803T160000Z
DTEND:20240804T210000Z
LOCATION:Altadena, CA 91001
TRANSP: OPAQUE
SEQUENCE:0
UID:
DTSTAMP:20260424T175441Z
SUMMARY:50% off Sunday!- Grasons Prestige Estate Sale-- Incredible Collections in Altadena
DESCRIPTION:50% off Sunday!- Grasons Prestige Estate Sale-- Incredible Collections in Altadena Grasons Co Prestige Pasadena & Territories  
UID:1777074881
STREET-ADDRESS:See website
POSTAL-CODE:91001
LOCALITY:Altadena
REGION:ABBREV=CA
COUNTRY:ABBREV=US;ABBREV=USA:United States
URL;TYPE=Event Listing:https://estatesales.org/estate-sales/ca/altadena/91001/grasons-prestige-estate-sale-incredible-2325352
PRIORITY:1
CLASS:PUBLIC
SEQUENCE:0
STATUS:CONFIRMED
TRANSP:OPAQUE
END:VEVENT
END:VCALENDAR
