BEGIN:VCALENDAR
VERSION:2.0
METHOD:PUBLISH
BEGIN:VEVENT
DTSTART:20240803T150000Z
DTEND:20240803T190000Z
LOCATION:Scottsdale, AZ 85258
TRANSP: OPAQUE
SEQUENCE:0
UID:
DTSTAMP:20260419T194933Z
SUMMARY:Scottsdale Estate Sale - 1 Day Only
DESCRIPTION:Scottsdale Estate Sale - 1 Day Only Arizona Finds 
UID:1776649773
STREET-ADDRESS:See website
POSTAL-CODE:85258
LOCALITY:Scottsdale
REGION:ABBREV=AZ
COUNTRY:ABBREV=US;ABBREV=USA:United States
URL;TYPE=Event Listing:https://estatesales.org/estate-sales/az/scottsdale/85258/scottsdale-estate-sale-1-day-2330603
PRIORITY:1
CLASS:PUBLIC
SEQUENCE:0
STATUS:CONFIRMED
TRANSP:OPAQUE
END:VEVENT
END:VCALENDAR
