BEGIN:VCALENDAR
VERSION:2.0
METHOD:PUBLISH
BEGIN:VEVENT
DTSTART:20230803T130000Z
DTEND:20230805T190000Z
LOCATION:Colts Neck, NJ 07722
TRANSP: OPAQUE
SEQUENCE:0
UID:
DTSTAMP:20260425T203556Z
SUMMARY:Wow Again!  A Dusty Old Bag is in Colts Neck for this Outstanding High End Sale 
DESCRIPTION:Wow Again!  A Dusty Old Bag is in Colts Neck for this Outstanding High End Sale  A Dusty Old Bag  
UID:1777170956
STREET-ADDRESS:See website
POSTAL-CODE:07722
LOCALITY:Colts Neck
REGION:ABBREV=NJ
COUNTRY:ABBREV=US;ABBREV=USA:United States
URL;TYPE=Event Listing:https://estatesales.org/estate-sales/nj/colts-neck/07722/wow-again-a-dusty-old-2207243
PRIORITY:1
CLASS:PUBLIC
SEQUENCE:0
STATUS:CONFIRMED
TRANSP:OPAQUE
END:VEVENT
END:VCALENDAR
