BEGIN:VCALENDAR
VERSION:2.0
METHOD:PUBLISH
BEGIN:VEVENT
DTSTART:20230803T153000Z
DTEND:20230806T210000Z
LOCATION:Bakersfield, CA 93314
TRANSP: OPAQUE
SEQUENCE:0
UID:
DTSTAMP:20260422T062307Z
SUMMARY:Super august sale
DESCRIPTION:Super august sale All About You Liquidation 
UID:1776860587
STREET-ADDRESS:See website
POSTAL-CODE:93314
LOCALITY:Bakersfield
REGION:ABBREV=CA
COUNTRY:ABBREV=US;ABBREV=USA:United States
URL;TYPE=Event Listing:https://estatesales.org/estate-sales/ca/bakersfield/93314/super-august-sale-2214087
PRIORITY:1
CLASS:PUBLIC
SEQUENCE:0
STATUS:CONFIRMED
TRANSP:OPAQUE
END:VEVENT
END:VCALENDAR
