BEGIN:VCALENDAR
VERSION:2.0
METHOD:PUBLISH
BEGIN:VEVENT
DTSTART:20190803T150000Z
DTEND:20190804T220000Z
LOCATION:Eagle, ID 83616
TRANSP: OPAQUE
SEQUENCE:0
UID:
DTSTAMP:20260419T213210Z
SUMMARY:Guardian Estate SOLutions, Inc.
DESCRIPTION:Guardian Estate SOLutions, Inc. Guardian Estate Solutions, LLC. 
UID:1776655930
STREET-ADDRESS:See website
POSTAL-CODE:83616
LOCALITY:Eagle
REGION:ABBREV=ID
COUNTRY:ABBREV=US;ABBREV=USA:United States
URL;TYPE=Event Listing:https://estatesales.org/estate-sales/id/eagle/83616/guardian-estate-solutions-inc-1698861
PRIORITY:1
CLASS:PUBLIC
SEQUENCE:0
STATUS:CONFIRMED
TRANSP:OPAQUE
END:VEVENT
END:VCALENDAR
