BEGIN:VCALENDAR
VERSION:2.0
METHOD:PUBLISH
BEGIN:VEVENT
DTSTART:20180803T150000Z
DTEND:20180805T210000Z
LOCATION:Houston, TX 77059
TRANSP: OPAQUE
SEQUENCE:0
UID:
DTSTAMP:20260419T103058Z
SUMMARY:50% OFF SUNDAY - EVERYTHING MUST GO! 
DESCRIPTION:50% OFF SUNDAY - EVERYTHING MUST GO!  AEP Estate Liquidation 
UID:1776616258
STREET-ADDRESS:See website
POSTAL-CODE:77059
LOCALITY:Houston
REGION:ABBREV=TX
COUNTRY:ABBREV=US;ABBREV=USA:United States
URL;TYPE=Event Listing:https://estatesales.org/estate-sales/tx/houston/77059/amazing-houston-estate-coming-up-1542257
PRIORITY:1
CLASS:PUBLIC
SEQUENCE:0
STATUS:CONFIRMED
TRANSP:OPAQUE
END:VEVENT
END:VCALENDAR
