BEGIN:VCALENDAR
VERSION:2.0
METHOD:PUBLISH
BEGIN:VEVENT
DTSTART:20180803T153000Z
DTEND:20180805T200000Z
LOCATION:Franktown, CO 80116
TRANSP: OPAQUE
SEQUENCE:0
UID:
DTSTAMP:20260420T204618Z
SUMMARY:Franktowns Beautiful Sale
DESCRIPTION:Franktowns Beautiful Sale Adan’s Hidden Treasures Estate Sale Company 
UID:1776739578
STREET-ADDRESS:See website
POSTAL-CODE:80116
LOCALITY:Franktown
REGION:ABBREV=CO
COUNTRY:ABBREV=US;ABBREV=USA:United States
URL;TYPE=Event Listing:https://estatesales.org/estate-sales/co/franktown/80116/franktowns-beautiful-sale-1548651
PRIORITY:1
CLASS:PUBLIC
SEQUENCE:0
STATUS:CONFIRMED
TRANSP:OPAQUE
END:VEVENT
END:VCALENDAR
