BEGIN:VCALENDAR
VERSION:2.0
METHOD:PUBLISH
BEGIN:VEVENT
DTSTART:20250802T150000Z
DTEND:20250803T190000Z
LOCATION:Bakersfield, CA 93314
TRANSP: OPAQUE
SEQUENCE:0
UID:
DTSTAMP:20260422T084547Z
SUMMARY:Estate Sale Overload – Too Much Cool Stuff! Bakersfield off Allen & Jenkins
DESCRIPTION:Estate Sale Overload – Too Much Cool Stuff! Bakersfield off Allen & Jenkins Complete Estate Management 
UID:1776869147
STREET-ADDRESS:See website
POSTAL-CODE:93314
LOCALITY:Bakersfield
REGION:ABBREV=CA
COUNTRY:ABBREV=US;ABBREV=USA:United States
URL;TYPE=Event Listing:https://estatesales.org/estate-sales/ca/bakersfield/93314/estate-sale-overload-too-much-2393168
PRIORITY:1
CLASS:PUBLIC
SEQUENCE:0
STATUS:CONFIRMED
TRANSP:OPAQUE
END:VEVENT
END:VCALENDAR
