BEGIN:VCALENDAR
VERSION:2.0
METHOD:PUBLISH
BEGIN:VEVENT
DTSTART:20240802T130000Z
DTEND:20240804T180000Z
LOCATION:Lake Mary, FL 32746
TRANSP: OPAQUE
SEQUENCE:0
UID:
DTSTAMP:20260423T132647Z
SUMMARY:EMERALD will be in Lake Mary
DESCRIPTION:EMERALD will be in Lake Mary Estate Sales by Emerald 
UID:1776972407
STREET-ADDRESS:See website
POSTAL-CODE:32746
LOCALITY:Lake Mary
REGION:ABBREV=FL
COUNTRY:ABBREV=US;ABBREV=USA:United States
URL;TYPE=Event Listing:https://estatesales.org/estate-sales/fl/lake-mary/32746/emerald-will-be-in-lake-2326224
PRIORITY:1
CLASS:PUBLIC
SEQUENCE:0
STATUS:CONFIRMED
TRANSP:OPAQUE
END:VEVENT
END:VCALENDAR
