BEGIN:VCALENDAR
VERSION:2.0
METHOD:PUBLISH
BEGIN:VEVENT
DTSTART:20240802T160000Z
DTEND:20240803T210000Z
LOCATION:Riverside, CA 92508
TRANSP: OPAQUE
SEQUENCE:0
UID:
DTSTAMP:20260423T062235Z
SUMMARY:GREAT SALE IN ORANGECREST
DESCRIPTION:GREAT SALE IN ORANGECREST All Treasures Estate Sales 
UID:1776946955
STREET-ADDRESS:See website
POSTAL-CODE:92508
LOCALITY:Riverside
REGION:ABBREV=CA
COUNTRY:ABBREV=US;ABBREV=USA:United States
URL;TYPE=Event Listing:https://estatesales.org/estate-sales/ca/riverside/92508/great-sale-in-orangecrest-2330945
PRIORITY:1
CLASS:PUBLIC
SEQUENCE:0
STATUS:CONFIRMED
TRANSP:OPAQUE
END:VEVENT
END:VCALENDAR
