BEGIN:VCALENDAR
VERSION:2.0
METHOD:PUBLISH
BEGIN:VEVENT
DTSTART:20250801T140000Z
DTEND:20250802T210000Z
LOCATION:Green Bay, WI 54303
TRANSP: OPAQUE
SEQUENCE:0
UID:
DTSTAMP:20260424T213718Z
SUMMARY:GREEN BAY ESTATE SALE BY THE " Estate Sale Squad" -FRI 08/01- 9AM-5PM, - SAT 08/02- 9AM-4PM
DESCRIPTION:GREEN BAY ESTATE SALE BY THE " Estate Sale Squad" -FRI 08/01- 9AM-5PM, - SAT 08/02- 9AM-4PM Estate Sale Squad LLC 
UID:1777088238
STREET-ADDRESS:See website
POSTAL-CODE:54303
LOCALITY:Green Bay
REGION:ABBREV=WI
COUNTRY:ABBREV=US;ABBREV=USA:United States
URL;TYPE=Event Listing:https://estatesales.org/estate-sales/wi/green-bay/54303/green-bay-estate-sale-by-2393257
PRIORITY:1
CLASS:PUBLIC
SEQUENCE:0
STATUS:CONFIRMED
TRANSP:OPAQUE
END:VEVENT
END:VCALENDAR
