BEGIN:VCALENDAR
VERSION:2.0
METHOD:PUBLISH
BEGIN:VEVENT
DTSTART:20250801T160000Z
DTEND:20250802T200000Z
LOCATION:Phoenix, AZ 85086
TRANSP: OPAQUE
SEQUENCE:0
UID:
DTSTAMP:20260425T094119Z
SUMMARY:North Phoenix Estate Sale *****(50% OFF SATURDAY)*****
DESCRIPTION:North Phoenix Estate Sale *****(50% OFF SATURDAY)***** Fresh Start Estate Sales LLC 
UID:1777131679
STREET-ADDRESS:See website
POSTAL-CODE:85086
LOCALITY:Phoenix
REGION:ABBREV=AZ
COUNTRY:ABBREV=US;ABBREV=USA:United States
URL;TYPE=Event Listing:https://estatesales.org/estate-sales/az/phoenix/85086/north-phoenix-estate-sale-2390235
PRIORITY:1
CLASS:PUBLIC
SEQUENCE:0
STATUS:CONFIRMED
TRANSP:OPAQUE
END:VEVENT
END:VCALENDAR
