BEGIN:VCALENDAR
VERSION:2.0
METHOD:PUBLISH
BEGIN:VEVENT
DTSTART:20250801T150000Z
DTEND:20250803T210000Z
LOCATION:Gilbert, AZ 85234
TRANSP: OPAQUE
SEQUENCE:0
UID:
DTSTAMP:20260424T125535Z
SUMMARY:Grasons of Gilbert & Phoenix (Morrison Ranch)
DESCRIPTION:Grasons of Gilbert & Phoenix (Morrison Ranch) Grasons of Gilbert, AZ 
UID:1777056935
STREET-ADDRESS:See website
POSTAL-CODE:85234
LOCALITY:Gilbert
REGION:ABBREV=AZ
COUNTRY:ABBREV=US;ABBREV=USA:United States
URL;TYPE=Event Listing:https://estatesales.org/estate-sales/az/gilbert/85234/grasons-of-gilbert-phoenix-morrison-2393342
PRIORITY:1
CLASS:PUBLIC
SEQUENCE:0
STATUS:CONFIRMED
TRANSP:OPAQUE
END:VEVENT
END:VCALENDAR
