BEGIN:VCALENDAR
VERSION:2.0
METHOD:PUBLISH
BEGIN:VEVENT
DTSTART:20250801T150000Z
DTEND:20250803T200000Z
LOCATION:Santa Ysabel, CA 92070
TRANSP: OPAQUE
SEQUENCE:0
UID:
DTSTAMP:20260425T045050Z
SUMMARY:Santa Ysabel 3 Bedroom Home Estate Sale
DESCRIPTION:Santa Ysabel 3 Bedroom Home Estate Sale Groovy Bakeshop 
UID:1777114250
STREET-ADDRESS:See website
POSTAL-CODE:92070
LOCALITY:Santa Ysabel
REGION:ABBREV=CA
COUNTRY:ABBREV=US;ABBREV=USA:United States
URL;TYPE=Event Listing:https://estatesales.org/estate-sales/ca/santa-ysabel/92070/santa-ysabel-3-bedroom-home-2388864
PRIORITY:1
CLASS:PUBLIC
SEQUENCE:0
STATUS:CONFIRMED
TRANSP:OPAQUE
END:VEVENT
END:VCALENDAR
