BEGIN:VCALENDAR
VERSION:2.0
METHOD:PUBLISH
BEGIN:VEVENT
DTSTART:20250731T140000Z
DTEND:20250802T220000Z
LOCATION:Watertown, WI 53094
TRANSP: OPAQUE
SEQUENCE:0
UID:
DTSTAMP:20260420T005358Z
SUMMARY:Amazing Sale in Watertown! 50% off almost all items Saturday!
DESCRIPTION:Amazing Sale in Watertown! 50% off almost all items Saturday!
UID:1776668038
STREET-ADDRESS:See website
POSTAL-CODE:53094
LOCALITY:Watertown
REGION:ABBREV=WI
COUNTRY:ABBREV=US;ABBREV=USA:United States
URL;TYPE=Event Listing:https://estatesales.org/estate-sales/wi/watertown/53094/amazing-sale-in-watertown-50-2392802
PRIORITY:1
CLASS:PUBLIC
SEQUENCE:0
STATUS:CONFIRMED
TRANSP:OPAQUE
END:VEVENT
END:VCALENDAR
