BEGIN:VCALENDAR
VERSION:2.0
METHOD:PUBLISH
BEGIN:VEVENT
DTSTART:20250731T150000Z
DTEND:20250802T200000Z
LOCATION:Englewood, CO 80111
TRANSP: OPAQUE
SEQUENCE:0
UID:
DTSTAMP:20260419T061834Z
SUMMARY:Grasons of Highlands Ranch: Upscale in Greenwood Village
DESCRIPTION:Grasons of Highlands Ranch: Upscale in Greenwood Village Grasons of Southwest Denver, CO 
UID:1776601114
STREET-ADDRESS:See website
POSTAL-CODE:80111
LOCALITY:Englewood
REGION:ABBREV=CO
COUNTRY:ABBREV=US;ABBREV=USA:United States
URL;TYPE=Event Listing:https://estatesales.org/estate-sales/co/englewood/80111/grasons-of-highlands-ranch-upscale-2392878
PRIORITY:1
CLASS:PUBLIC
SEQUENCE:0
STATUS:CONFIRMED
TRANSP:OPAQUE
END:VEVENT
END:VCALENDAR
