BEGIN:VCALENDAR
VERSION:2.0
METHOD:PUBLISH
BEGIN:VEVENT
DTSTART:20250731T160000Z
DTEND:20250802T210000Z
LOCATION:Compton, CA 90222
TRANSP: OPAQUE
SEQUENCE:0
UID:
DTSTAMP:20260422T030621Z
SUMMARY:*75% Off Saturday
DESCRIPTION:*75% Off Saturday Diamond Heirlooms Estate Sales & Consulting  LLC 
UID:1776848781
STREET-ADDRESS:See website
POSTAL-CODE:90222
LOCALITY:Compton
REGION:ABBREV=CA
COUNTRY:ABBREV=US;ABBREV=USA:United States
URL;TYPE=Event Listing:https://estatesales.org/estate-sales/ca/compton/90222/50-off-friday-compton-cowboy-2391503
PRIORITY:1
CLASS:PUBLIC
SEQUENCE:0
STATUS:CONFIRMED
TRANSP:OPAQUE
END:VEVENT
END:VCALENDAR
