BEGIN:VCALENDAR
VERSION:2.0
METHOD:PUBLISH
BEGIN:VEVENT
DTSTART:20210731T120000Z
DTEND:20210801T190000Z
LOCATION:Jackson, MO 63755
TRANSP: OPAQUE
SEQUENCE:0
UID:
DTSTAMP:20260419T163230Z
SUMMARY:Antiques, Furniture, tools and more.  Clean contents!
DESCRIPTION:Antiques, Furniture, tools and more.  Clean contents! Lizzy Lou Estate Sales, LLC 
UID:1776637950
STREET-ADDRESS:See website
POSTAL-CODE:63755
LOCALITY:Jackson
REGION:ABBREV=MO
COUNTRY:ABBREV=US;ABBREV=USA:United States
URL;TYPE=Event Listing:https://estatesales.org/estate-sales/mo/jackson/63755/antiques-furniture-tools-and-more-1934355
PRIORITY:1
CLASS:PUBLIC
SEQUENCE:0
STATUS:CONFIRMED
TRANSP:OPAQUE
END:VEVENT
END:VCALENDAR
