BEGIN:VCALENDAR
VERSION:2.0
METHOD:PUBLISH
BEGIN:VEVENT
DTSTART:20200731T123000Z
DTEND:20200801T180000Z
LOCATION:Batesville, AR 72501
TRANSP: OPAQUE
SEQUENCE:0
UID:
DTSTAMP:20260425T162232Z
SUMMARY:Jackson Estate Sale
DESCRIPTION:Jackson Estate Sale HoneyBee Estate Sales 
UID:1777155752
STREET-ADDRESS:See website
POSTAL-CODE:72501
LOCALITY:Batesville
REGION:ABBREV=AR
COUNTRY:ABBREV=US;ABBREV=USA:United States
URL;TYPE=Event Listing:https://estatesales.org/estate-sales/ar/batesville/72501/jackson-estate-sale-1803361
PRIORITY:1
CLASS:PUBLIC
SEQUENCE:0
STATUS:CONFIRMED
TRANSP:OPAQUE
END:VEVENT
END:VCALENDAR
