BEGIN:VCALENDAR
VERSION:2.0
METHOD:PUBLISH
BEGIN:VEVENT
DTSTART:20230730T140000Z
DTEND:20230730T200000Z
LOCATION:Shafter, CA 93263
TRANSP: OPAQUE
SEQUENCE:0
UID:
DTSTAMP:20260422T120355Z
SUMMARY:Estate Sale- Farm House - Shafter, CA
DESCRIPTION:Estate Sale- Farm House - Shafter, CA Complete Estate Management 
UID:1776881035
STREET-ADDRESS:See website
POSTAL-CODE:93263
LOCALITY:Shafter
REGION:ABBREV=CA
COUNTRY:ABBREV=US;ABBREV=USA:United States
URL;TYPE=Event Listing:https://estatesales.org/estate-sales/ca/shafter/93263/estate-sale-farm-house-shafter-2211711
PRIORITY:1
CLASS:PUBLIC
SEQUENCE:0
STATUS:CONFIRMED
TRANSP:OPAQUE
END:VEVENT
END:VCALENDAR
