BEGIN:VCALENDAR
VERSION:2.0
METHOD:PUBLISH
BEGIN:VEVENT
DTSTART:20220730T140000Z
DTEND:20220730T210000Z
LOCATION:Weatherford, OK 73096
TRANSP: OPAQUE
SEQUENCE:0
UID:
DTSTAMP:20260424T170902Z
SUMMARY:WOW SALE in Weatherford OK!!!
DESCRIPTION:WOW SALE in Weatherford OK!!! Arney Estate Sales 
UID:1777072142
STREET-ADDRESS:See website
POSTAL-CODE:73096
LOCALITY:Weatherford
REGION:ABBREV=OK
COUNTRY:ABBREV=US;ABBREV=USA:United States
URL;TYPE=Event Listing:https://estatesales.org/estate-sales/ok/weatherford/73096/wow-sale-in-weatherford-ok-2075419
PRIORITY:1
CLASS:PUBLIC
SEQUENCE:0
STATUS:CONFIRMED
TRANSP:OPAQUE
END:VEVENT
END:VCALENDAR
