BEGIN:VCALENDAR
VERSION:2.0
METHOD:PUBLISH
BEGIN:VEVENT
DTSTART:20210730T160000Z
DTEND:20210801T210000Z
LOCATION:Salinas, CA 93906
TRANSP: OPAQUE
SEQUENCE:0
UID:
DTSTAMP:20260421T115722Z
SUMMARY:Elegant estate Sale 
DESCRIPTION:Elegant estate Sale  A Move Made SImple 
UID:1776794242
STREET-ADDRESS:See website
POSTAL-CODE:93906
LOCALITY:Salinas
REGION:ABBREV=CA
COUNTRY:ABBREV=US;ABBREV=USA:United States
URL;TYPE=Event Listing:https://estatesales.org/estate-sales/ca/salinas/93906/elegant-estate-sale-1937943
PRIORITY:1
CLASS:PUBLIC
SEQUENCE:0
STATUS:CONFIRMED
TRANSP:OPAQUE
END:VEVENT
END:VCALENDAR
