BEGIN:VCALENDAR
VERSION:2.0
METHOD:PUBLISH
BEGIN:VEVENT
DTSTART:20220729T160000Z
DTEND:20220731T230000Z
LOCATION:Carmichael, CA 95608
TRANSP: OPAQUE
SEQUENCE:0
UID:
DTSTAMP:20260420T172946Z
SUMMARY:50% OFF Interior Designer Masterpiece 
DESCRIPTION:50% OFF Interior Designer Masterpiece  Burns Estate Liquidator 
UID:1776727786
STREET-ADDRESS:See website
POSTAL-CODE:95608
LOCALITY:Carmichael
REGION:ABBREV=CA
COUNTRY:ABBREV=US;ABBREV=USA:United States
URL;TYPE=Event Listing:https://estatesales.org/estate-sales/ca/carmichael/95608/interior-designer-masterpiece-2056853
PRIORITY:1
CLASS:PUBLIC
SEQUENCE:0
STATUS:CONFIRMED
TRANSP:OPAQUE
END:VEVENT
END:VCALENDAR
