BEGIN:VCALENDAR
VERSION:2.0
METHOD:PUBLISH
BEGIN:VEVENT
DTSTART:20220729T140000Z
DTEND:20220730T180000Z
LOCATION:Monee, IL 60449
TRANSP: OPAQUE
SEQUENCE:0
UID:
DTSTAMP:20260425T162414Z
SUMMARY:Monee Estate Sale! The Ageless Treasure! 
DESCRIPTION:Monee Estate Sale! The Ageless Treasure!  The Ageless Treasure 
UID:1777155854
STREET-ADDRESS:See website
POSTAL-CODE:60449
LOCALITY:Monee
REGION:ABBREV=IL
COUNTRY:ABBREV=US;ABBREV=USA:United States
URL;TYPE=Event Listing:https://estatesales.org/estate-sales/il/monee/60449/monee-estate-sale-the-ageless-2073237
PRIORITY:1
CLASS:PUBLIC
SEQUENCE:0
STATUS:CONFIRMED
TRANSP:OPAQUE
END:VEVENT
END:VCALENDAR
