BEGIN:VCALENDAR
VERSION:2.0
METHOD:PUBLISH
BEGIN:VEVENT
DTSTART:20170729T130000Z
DTEND:20170730T200000Z
LOCATION:Waterford, MI 48329
TRANSP: OPAQUE
SEQUENCE:0
UID:
DTSTAMP:20260421T055334Z
SUMMARY:Amazing Finds at this Estate Sale in Waterford, MI
DESCRIPTION:Amazing Finds at this Estate Sale in Waterford, MI Caring Transitions of Oakland County MI 
UID:1776772414
STREET-ADDRESS:See website
POSTAL-CODE:48329
LOCALITY:Waterford
REGION:ABBREV=MI
COUNTRY:ABBREV=US;ABBREV=USA:United States
URL;TYPE=Event Listing:https://estatesales.org/estate-sales/mi/waterford/48329/amazing-finds-at-this-estate-1316387
PRIORITY:1
CLASS:PUBLIC
SEQUENCE:0
STATUS:CONFIRMED
TRANSP:OPAQUE
END:VEVENT
END:VCALENDAR
