BEGIN:VCALENDAR
VERSION:2.0
METHOD:PUBLISH
BEGIN:VEVENT
DTSTART:20160729T130000Z
DTEND:20160731T200000Z
LOCATION:Montville, NJ 07045
TRANSP: OPAQUE
SEQUENCE:0
UID:
DTSTAMP:20260421T124127Z
SUMMARY:Blow out Sunday!! Treasures of Yesterday in Montville Moving Sale also selling Ford Windstar low miles!!
DESCRIPTION:Blow out Sunday!! Treasures of Yesterday in Montville Moving Sale also selling Ford Windstar low miles!! Treasures of Yesterday Estate Sales 
UID:1776796887
STREET-ADDRESS:See website
POSTAL-CODE:07045
LOCALITY:Montville
REGION:ABBREV=NJ
COUNTRY:ABBREV=US;ABBREV=USA:United States
URL;TYPE=Event Listing:https://estatesales.org/estate-sales/nj/montville/07045/blow-out-sunday-treasures-of-916701
PRIORITY:1
CLASS:PUBLIC
SEQUENCE:0
STATUS:CONFIRMED
TRANSP:OPAQUE
END:VEVENT
END:VCALENDAR
