BEGIN:VCALENDAR
VERSION:2.0
METHOD:PUBLISH
BEGIN:VEVENT
DTSTART:20160729T130000Z
DTEND:20160730T200000Z
LOCATION:Mount Clemens, MI 48043
TRANSP: OPAQUE
SEQUENCE:0
UID:
DTSTAMP:20260421T055335Z
SUMMARY:Treasures in Mt. Clemens
DESCRIPTION:Treasures in Mt. Clemens Caring Transitions of Oakland County MI 
UID:1776772415
STREET-ADDRESS:See website
POSTAL-CODE:48043
LOCALITY:Mount Clemens
REGION:ABBREV=MI
COUNTRY:ABBREV=US;ABBREV=USA:United States
URL;TYPE=Event Listing:https://estatesales.org/estate-sales/mi/mount-clemens/48043/treasures-in-mt-clemens-928771
PRIORITY:1
CLASS:PUBLIC
SEQUENCE:0
STATUS:CONFIRMED
TRANSP:OPAQUE
END:VEVENT
END:VCALENDAR
