BEGIN:VCALENDAR
VERSION:2.0
METHOD:PUBLISH
BEGIN:VEVENT
DTSTART:20110729T150000Z
DTEND:20110730T230000Z
LOCATION:Los Angeles, CA 90077
TRANSP: OPAQUE
SEQUENCE:0
UID:
DTSTAMP:20260420T222146Z
SUMMARY:MAJOR MID CENTURY MODERN ESTATE SALE!
DESCRIPTION:MAJOR MID CENTURY MODERN ESTATE SALE! Retro Robin Estate Sales, LLC 
UID:1776745306
STREET-ADDRESS:See website
POSTAL-CODE:90077
LOCALITY:Los Angeles
REGION:ABBREV=CA
COUNTRY:ABBREV=US;ABBREV=USA:United States
URL;TYPE=Event Listing:https://estatesales.org/estate-sales/ca/los-angeles/90077/major-mid-century-modern-estate-119717
PRIORITY:1
CLASS:PUBLIC
SEQUENCE:0
STATUS:CONFIRMED
TRANSP:OPAQUE
END:VEVENT
END:VCALENDAR
