BEGIN:VCALENDAR
VERSION:2.0
METHOD:PUBLISH
BEGIN:VEVENT
DTSTART:20230728T130000Z
DTEND:20230801T190000Z
LOCATION:Soddy Daisy, TN 37379
TRANSP: OPAQUE
SEQUENCE:0
UID:
DTSTAMP:20260421T055309Z
SUMMARY:WAREHOUSE ESTATE SALE
DESCRIPTION:WAREHOUSE ESTATE SALE Tender Care Move Management-TN 
UID:1776772389
STREET-ADDRESS:See website
POSTAL-CODE:37379
LOCALITY:Soddy Daisy
REGION:ABBREV=TN
COUNTRY:ABBREV=US;ABBREV=USA:United States
URL;TYPE=Event Listing:https://estatesales.org/estate-sales/tn/soddy-daisy/37379/warehouse-estate-sale-2210643
PRIORITY:1
CLASS:PUBLIC
SEQUENCE:0
STATUS:CONFIRMED
TRANSP:OPAQUE
END:VEVENT
END:VCALENDAR
