BEGIN:VCALENDAR
VERSION:2.0
METHOD:PUBLISH
BEGIN:VEVENT
DTSTART:20230728T130000Z
DTEND:20230729T180000Z
LOCATION:Braintree, MA 02184
TRANSP: OPAQUE
SEQUENCE:0
UID:
DTSTAMP:20260420T012618Z
SUMMARY:Incredible Braintree Sale
DESCRIPTION:Incredible Braintree Sale Hidden Treasures Estate Sales & Cleanouts 
UID:1776669978
STREET-ADDRESS:See website
POSTAL-CODE:02184
LOCALITY:Braintree
REGION:ABBREV=MA
COUNTRY:ABBREV=US;ABBREV=USA:United States
URL;TYPE=Event Listing:https://estatesales.org/estate-sales/ma/braintree/02184/incredible-braintree-sale-2210435
PRIORITY:1
CLASS:PUBLIC
SEQUENCE:0
STATUS:CONFIRMED
TRANSP:OPAQUE
END:VEVENT
END:VCALENDAR
