BEGIN:VCALENDAR
VERSION:2.0
METHOD:PUBLISH
BEGIN:VEVENT
DTSTART:20220728T140000Z
DTEND:20220730T180000Z
LOCATION:Elgin, IL 60124
TRANSP: OPAQUE
SEQUENCE:0
UID:
DTSTAMP:20260425T081308Z
SUMMARY:Grasons of NW Chicagoland 3 day Campton Hills/Elgin sale
DESCRIPTION:Grasons of NW Chicagoland 3 day Campton Hills/Elgin sale Grasons Co of NW Chicagoland 
UID:1777126388
STREET-ADDRESS:See website
POSTAL-CODE:60124
LOCALITY:Elgin
REGION:ABBREV=IL
COUNTRY:ABBREV=US;ABBREV=USA:United States
URL;TYPE=Event Listing:https://estatesales.org/estate-sales/il/elgin/60124/grasons-of-nw-chicagoland-3-2062487
PRIORITY:1
CLASS:PUBLIC
SEQUENCE:0
STATUS:CONFIRMED
TRANSP:OPAQUE
END:VEVENT
END:VCALENDAR
