BEGIN:VCALENDAR
VERSION:2.0
METHOD:PUBLISH
BEGIN:VEVENT
DTSTART:20180728T150000Z
DTEND:20180729T220000Z
LOCATION:Gig Harbor, WA 98335
TRANSP: OPAQUE
SEQUENCE:0
UID:
DTSTAMP:20260424T133516Z
SUMMARY:Gig Harbor Estate Sale
DESCRIPTION:Gig Harbor Estate Sale P W Green Antiques & Estate Sales 
UID:1777059316
STREET-ADDRESS:See website
POSTAL-CODE:98335
LOCALITY:Gig Harbor
REGION:ABBREV=WA
COUNTRY:ABBREV=US;ABBREV=USA:United States
URL;TYPE=Event Listing:https://estatesales.org/estate-sales/wa/gig-harbor/98335/gig-harbor-estate-sale-1539699
PRIORITY:1
CLASS:PUBLIC
SEQUENCE:0
STATUS:CONFIRMED
TRANSP:OPAQUE
END:VEVENT
END:VCALENDAR
