BEGIN:VCALENDAR
VERSION:2.0
METHOD:PUBLISH
BEGIN:VEVENT
DTSTART:20160728T140000Z
DTEND:20160730T220000Z
LOCATION:Benton Harbor, MI 49022
TRANSP: OPAQUE
SEQUENCE:0
UID:
DTSTAMP:20260424T133525Z
SUMMARY:The Estate of "The Rose" in Higman Park
DESCRIPTION:The Estate of "The Rose" in Higman Park Olson Estate Service 
UID:1777059325
STREET-ADDRESS:See website
POSTAL-CODE:49022
LOCALITY:Benton Harbor
REGION:ABBREV=MI
COUNTRY:ABBREV=US;ABBREV=USA:United States
URL;TYPE=Event Listing:https://estatesales.org/estate-sales/mi/benton-harbor/49022/the-estate-of-the-rose-923803
PRIORITY:1
CLASS:PUBLIC
SEQUENCE:0
STATUS:CONFIRMED
TRANSP:OPAQUE
END:VEVENT
END:VCALENDAR
