BEGIN:VCALENDAR
VERSION:2.0
METHOD:PUBLISH
BEGIN:VEVENT
DTSTART:20250727T130000Z
DTEND:20250727T180000Z
LOCATION:Elkton, FL 32033
TRANSP: OPAQUE
SEQUENCE:0
UID:
DTSTAMP:20260425T103618Z
SUMMARY:One Day Moving Blow Out Sale Elkton (country walk)
DESCRIPTION:One Day Moving Blow Out Sale Elkton (country walk) Grasons Of St Johns & Flagler Counties 
UID:1777134978
STREET-ADDRESS:See website
POSTAL-CODE:32033
LOCALITY:Elkton
REGION:ABBREV=FL
COUNTRY:ABBREV=US;ABBREV=USA:United States
URL;TYPE=Event Listing:https://estatesales.org/estate-sales/fl/elkton/32033/one-day-moving-blow-out-2392659
PRIORITY:1
CLASS:PUBLIC
SEQUENCE:0
STATUS:CONFIRMED
TRANSP:OPAQUE
END:VEVENT
END:VCALENDAR
