BEGIN:VCALENDAR
VERSION:2.0
METHOD:PUBLISH
BEGIN:VEVENT
DTSTART:20240727T130000Z
DTEND:20240728T180000Z
LOCATION:Plainville, CT 06062
TRANSP: OPAQUE
SEQUENCE:0
UID:
DTSTAMP:20260423T105821Z
SUMMARY:HUGE Estate Sale in Plainville, CT
DESCRIPTION:HUGE Estate Sale in Plainville, CT
UID:1776963501
STREET-ADDRESS:See website
POSTAL-CODE:06062
LOCALITY:Plainville
REGION:ABBREV=CT
COUNTRY:ABBREV=US;ABBREV=USA:United States
URL;TYPE=Event Listing:https://estatesales.org/estate-sales/ct/plainville/06062/huge-estate-sale-in-plainville-2327629
PRIORITY:1
CLASS:PUBLIC
SEQUENCE:0
STATUS:CONFIRMED
TRANSP:OPAQUE
END:VEVENT
END:VCALENDAR
