BEGIN:VCALENDAR
VERSION:2.0
METHOD:PUBLISH
BEGIN:VEVENT
DTSTART:20240727T160000Z
DTEND:20240728T210000Z
LOCATION:Pleasanton, CA 94566
TRANSP: OPAQUE
SEQUENCE:0
UID:
DTSTAMP:20260421T170523Z
SUMMARY:50% off 50% off, excluding miniatures -Grasons Co of Alameda County - Pleasanton Farm Style Estate Sale
DESCRIPTION:50% off 50% off, excluding miniatures -Grasons Co of Alameda County - Pleasanton Farm Style Estate Sale Grasons   Of Alameda County 
UID:1776812723
STREET-ADDRESS:See website
POSTAL-CODE:94566
LOCALITY:Pleasanton
REGION:ABBREV=CA
COUNTRY:ABBREV=US;ABBREV=USA:United States
URL;TYPE=Event Listing:https://estatesales.org/estate-sales/ca/pleasanton/94566/50-off-50-off-excluding-2325838
PRIORITY:1
CLASS:PUBLIC
SEQUENCE:0
STATUS:CONFIRMED
TRANSP:OPAQUE
END:VEVENT
END:VCALENDAR
