BEGIN:VCALENDAR
VERSION:2.0
METHOD:PUBLISH
BEGIN:VEVENT
DTSTART:20240727T120000Z
DTEND:20240728T180000Z
LOCATION:Scottdale, PA 15683
TRANSP: OPAQUE
SEQUENCE:0
UID:
DTSTAMP:20260419T082748Z
SUMMARY:Williams and Barron Estate Sale
DESCRIPTION:Williams and Barron Estate Sale Williams & Barron Estate Services LLC 
UID:1776608868
STREET-ADDRESS:See website
POSTAL-CODE:15683
LOCALITY:Scottdale
REGION:ABBREV=PA
COUNTRY:ABBREV=US;ABBREV=USA:United States
URL;TYPE=Event Listing:https://estatesales.org/estate-sales/pa/scottdale/15683/williams-and-barron-estate-sale-2329484
PRIORITY:1
CLASS:PUBLIC
SEQUENCE:0
STATUS:CONFIRMED
TRANSP:OPAQUE
END:VEVENT
END:VCALENDAR
