BEGIN:VCALENDAR
VERSION:2.0
METHOD:PUBLISH
BEGIN:VEVENT
DTSTART:20190727T130000Z
DTEND:20190727T190000Z
LOCATION:Billerica, MA 01821
TRANSP: OPAQUE
SEQUENCE:0
UID:
DTSTAMP:20260422T083842Z
SUMMARY:B Bopping back to  "Rock~A~Billy erica
DESCRIPTION:B Bopping back to  "Rock~A~Billy erica Curious Cat Estate Sales LLC 
UID:1776868722
STREET-ADDRESS:See website
POSTAL-CODE:01821
LOCALITY:Billerica
REGION:ABBREV=MA
COUNTRY:ABBREV=US;ABBREV=USA:United States
URL;TYPE=Event Listing:https://estatesales.org/estate-sales/ma/billerica/01821/b-bopping-back-to-rockabilly-1689339
PRIORITY:1
CLASS:PUBLIC
SEQUENCE:0
STATUS:CONFIRMED
TRANSP:OPAQUE
END:VEVENT
END:VCALENDAR
