BEGIN:VCALENDAR
VERSION:2.0
METHOD:PUBLISH
BEGIN:VEVENT
DTSTART:20180727T160000Z
DTEND:20180729T190000Z
LOCATION:Santa Rosa, CA 95405
TRANSP: OPAQUE
SEQUENCE:0
UID:
DTSTAMP:20260421T124128Z
SUMMARY:WONDERFUL SALE.....FILLED WITH HIGH END FURNISHINGS
DESCRIPTION:WONDERFUL SALE.....FILLED WITH HIGH END FURNISHINGS Susan Gardner Estate Sales 
UID:1776796888
STREET-ADDRESS:See website
POSTAL-CODE:95405
LOCALITY:Santa Rosa
REGION:ABBREV=CA
COUNTRY:ABBREV=US;ABBREV=USA:United States
URL;TYPE=Event Listing:https://estatesales.org/estate-sales/ca/santa-rosa/95405/wonderful-salefilled-with-high-end-1549369
PRIORITY:1
CLASS:PUBLIC
SEQUENCE:0
STATUS:CONFIRMED
TRANSP:OPAQUE
END:VEVENT
END:VCALENDAR
