BEGIN:VCALENDAR
VERSION:2.0
METHOD:PUBLISH
BEGIN:VEVENT
DTSTART:20180727T130000Z
DTEND:20180729T180000Z
LOCATION:Harrisonville, MO 64701
TRANSP: OPAQUE
SEQUENCE:0
UID:
DTSTAMP:20260425T071513Z
SUMMARY:Barbies, Hot Wheels, Tools and Trains OH MY! 
DESCRIPTION:Barbies, Hot Wheels, Tools and Trains OH MY!  Memory Lane Estate Sales LLC 
UID:1777122913
STREET-ADDRESS:See website
POSTAL-CODE:64701
LOCALITY:Harrisonville
REGION:ABBREV=MO
COUNTRY:ABBREV=US;ABBREV=USA:United States
URL;TYPE=Event Listing:https://estatesales.org/estate-sales/mo/harrisonville/64701/barbies-hot-wheels-tools-and-1547931
PRIORITY:1
CLASS:PUBLIC
SEQUENCE:0
STATUS:CONFIRMED
TRANSP:OPAQUE
END:VEVENT
END:VCALENDAR
