BEGIN:VCALENDAR
VERSION:2.0
METHOD:PUBLISH
BEGIN:VEVENT
DTSTART:20160727T153000Z
DTEND:20160730T213000Z
LOCATION:Denver, CO 80209
TRANSP: OPAQUE
SEQUENCE:0
UID:
DTSTAMP:20260420T204527Z
SUMMARY:Final Day! Make an Offer! Vintage, Retro, Mid Century Treasure Hunt! 50% off!
DESCRIPTION:Final Day! Make an Offer! Vintage, Retro, Mid Century Treasure Hunt! 50% off! Migrations Estate Sales and Transitions 
UID:1776739527
STREET-ADDRESS:See website
POSTAL-CODE:80209
LOCALITY:Denver
REGION:ABBREV=CO
COUNTRY:ABBREV=US;ABBREV=USA:United States
URL;TYPE=Event Listing:https://estatesales.org/estate-sales/co/denver/80209/final-day-make-an-offer-930477
PRIORITY:1
CLASS:PUBLIC
SEQUENCE:0
STATUS:CONFIRMED
TRANSP:OPAQUE
END:VEVENT
END:VCALENDAR
