BEGIN:VCALENDAR
VERSION:2.0
METHOD:PUBLISH
BEGIN:VEVENT
DTSTART:20160727T203000Z
DTEND:20160730T230000Z
LOCATION:Aurora, CO 80011
TRANSP: OPAQUE
SEQUENCE:0
UID:
DTSTAMP:20260421T151905Z
SUMMARY:great garage and estatesale at bingo hall .the bingo hall is closing down
DESCRIPTION:great garage and estatesale at bingo hall .the bingo hall is closing down AuroraEstateSales.com 
UID:1776806345
STREET-ADDRESS:See website
POSTAL-CODE:80011
LOCALITY:Aurora
REGION:ABBREV=CO
COUNTRY:ABBREV=US;ABBREV=USA:United States
URL;TYPE=Event Listing:https://estatesales.org/estate-sales/co/aurora/80011/great-garage-and-estatesale-at-927321
PRIORITY:1
CLASS:PUBLIC
SEQUENCE:0
STATUS:CONFIRMED
TRANSP:OPAQUE
END:VEVENT
END:VCALENDAR
