BEGIN:VCALENDAR
VERSION:2.0
METHOD:PUBLISH
BEGIN:VEVENT
DTSTART:20120727T210000Z
DTEND:20120728T020000Z
LOCATION:Hampton, FL 32044
TRANSP: OPAQUE
SEQUENCE:0
UID:
DTSTAMP:20260423T131104Z
SUMMARY:SIZZLIN" SUMMER AUCTION!
DESCRIPTION:SIZZLIN" SUMMER AUCTION! Estate Sales Service Lynn OKeefe Auction Co. & Appraisals PLLC 
UID:1776971464
STREET-ADDRESS:See website
POSTAL-CODE:32044
LOCALITY:Hampton
REGION:ABBREV=FL
COUNTRY:ABBREV=US;ABBREV=USA:United States
URL;TYPE=Event Listing:https://estatesales.org/estate-sales/fl/hampton/32044/sizzlin-summer-auction-178674
PRIORITY:1
CLASS:PUBLIC
SEQUENCE:0
STATUS:CONFIRMED
TRANSP:OPAQUE
END:VEVENT
END:VCALENDAR
