BEGIN:VCALENDAR
VERSION:2.0
METHOD:PUBLISH
BEGIN:VEVENT
DTSTART:20250726T150000Z
DTEND:20250727T200000Z
LOCATION:Evanston, IL 60201
TRANSP: OPAQUE
SEQUENCE:0
UID:
DTSTAMP:20260425T162651Z
SUMMARY:Victorian Echoes in Evanston - Gourmet, Fashion, Jewelry, Fine Furnishings
DESCRIPTION:Victorian Echoes in Evanston - Gourmet, Fashion, Jewelry, Fine Furnishings Meadow Lane Estate Sales 
UID:1777156011
STREET-ADDRESS:See website
POSTAL-CODE:60201
LOCALITY:Evanston
REGION:ABBREV=IL
COUNTRY:ABBREV=US;ABBREV=USA:United States
URL;TYPE=Event Listing:https://estatesales.org/estate-sales/il/evanston/60201/victorian-echoes-in-evanston-gourmet-2392202
PRIORITY:1
CLASS:PUBLIC
SEQUENCE:0
STATUS:CONFIRMED
TRANSP:OPAQUE
END:VEVENT
END:VCALENDAR
