BEGIN:VCALENDAR
VERSION:2.0
METHOD:PUBLISH
BEGIN:VEVENT
DTSTART:20250726T150000Z
DTEND:20250727T230000Z
LOCATION:Placentia, CA 92870
TRANSP: OPAQUE
SEQUENCE:0
UID:
DTSTAMP:20260419T234726Z
SUMMARY:Exceptional two-day sale in Placentia, full of vintage clothes, Jewelry, huge Elephant collection and so much more!
DESCRIPTION:Exceptional two-day sale in Placentia, full of vintage clothes, Jewelry, huge Elephant collection and so much more! Estate Sales by Dee 
UID:1776664046
STREET-ADDRESS:See website
POSTAL-CODE:92870
LOCALITY:Placentia
REGION:ABBREV=CA
COUNTRY:ABBREV=US;ABBREV=USA:United States
URL;TYPE=Event Listing:https://estatesales.org/estate-sales/ca/placentia/92870/exceptional-twoday-sale-in-placentia-2392049
PRIORITY:1
CLASS:PUBLIC
SEQUENCE:0
STATUS:CONFIRMED
TRANSP:OPAQUE
END:VEVENT
END:VCALENDAR
