BEGIN:VCALENDAR
VERSION:2.0
METHOD:PUBLISH
BEGIN:VEVENT
DTSTART:20240726T140000Z
DTEND:20240728T200000Z
LOCATION:Canton, OH 44718
TRANSP: OPAQUE
SEQUENCE:0
UID:
DTSTAMP:20260422T171858Z
SUMMARY:Grasons Summit County presents "Jubilant in Jackson Twp/Canton" 3 Day Estate Sale
DESCRIPTION:Grasons Summit County presents "Jubilant in Jackson Twp/Canton" 3 Day Estate Sale Grasons Co 
UID:1776899938
STREET-ADDRESS:See website
POSTAL-CODE:44718
LOCALITY:Canton
REGION:ABBREV=OH
COUNTRY:ABBREV=US;ABBREV=USA:United States
URL;TYPE=Event Listing:https://estatesales.org/estate-sales/oh/canton/44718/grasons-summit-county-presents-jubilant-2328773
PRIORITY:1
CLASS:PUBLIC
SEQUENCE:0
STATUS:CONFIRMED
TRANSP:OPAQUE
END:VEVENT
END:VCALENDAR
