BEGIN:VCALENDAR
VERSION:2.0
METHOD:PUBLISH
BEGIN:VEVENT
DTSTART:20240726T150000Z
DTEND:20240728T100000Z
LOCATION:Oklahoma City, OK 73162
TRANSP: OPAQUE
SEQUENCE:0
UID:
DTSTAMP:20260422T113053Z
SUMMARY:PJ's Four Star Estate Sales Presents Sale Contents of Lovely home July 26-28
DESCRIPTION:PJ's Four Star Estate Sales Presents Sale Contents of Lovely home July 26-28 PJ'S Four Star Estate Sales llc 
UID:1776879053
STREET-ADDRESS:See website
POSTAL-CODE:73162
LOCALITY:Oklahoma City
REGION:ABBREV=OK
COUNTRY:ABBREV=US;ABBREV=USA:United States
URL;TYPE=Event Listing:https://estatesales.org/estate-sales/ok/oklahoma-city/73162/pjs-four-star-estate-sales-2328894
PRIORITY:1
CLASS:PUBLIC
SEQUENCE:0
STATUS:CONFIRMED
TRANSP:OPAQUE
END:VEVENT
END:VCALENDAR
