BEGIN:VCALENDAR
VERSION:2.0
METHOD:PUBLISH
BEGIN:VEVENT
DTSTART:20240726T130000Z
DTEND:20240728T180000Z
LOCATION:Winter Park, FL 32789
TRANSP: OPAQUE
SEQUENCE:0
UID:
DTSTAMP:20260423T132647Z
SUMMARY:50% Off Sunday, EMERALD in Winter Park
DESCRIPTION:50% Off Sunday, EMERALD in Winter Park Estate Sales by Emerald 
UID:1776972407
STREET-ADDRESS:See website
POSTAL-CODE:32789
LOCALITY:Winter Park
REGION:ABBREV=FL
COUNTRY:ABBREV=US;ABBREV=USA:United States
URL;TYPE=Event Listing:https://estatesales.org/estate-sales/fl/winter-park/32789/emerald-will-be-in-winter-2328099
PRIORITY:1
CLASS:PUBLIC
SEQUENCE:0
STATUS:CONFIRMED
TRANSP:OPAQUE
END:VEVENT
END:VCALENDAR
