BEGIN:VCALENDAR
VERSION:2.0
METHOD:PUBLISH
BEGIN:VEVENT
DTSTART:20230726T180000Z
DTEND:20230727T045900Z
LOCATION:Michigan City, IN 46360
TRANSP: OPAQUE
SEQUENCE:0
UID:
DTSTAMP:20260419T082833Z
SUMMARY:2 Manufactured Homes Trailer Auction - Michigan City & Portage Ind LIVE Bidding!
DESCRIPTION:2 Manufactured Homes Trailer Auction - Michigan City & Portage Ind LIVE Bidding! Auction & Estates by Diana Cook 
UID:1776608913
STREET-ADDRESS:See website
POSTAL-CODE:46360
LOCALITY:Michigan City
REGION:ABBREV=IN
COUNTRY:ABBREV=US;ABBREV=USA:United States
URL;TYPE=Event Listing:https://estatesales.org/estate-sales/in/michigan-city/46360/2-manufactured-homes-trailer-auction-2170543
PRIORITY:1
CLASS:PUBLIC
SEQUENCE:0
STATUS:CONFIRMED
TRANSP:OPAQUE
END:VEVENT
END:VCALENDAR
